BEGIN:VCALENDAR
VERSION:2.0
PRODID:-//Szent Ágoston Templom Honlapja - ECPv4.1.0.1//NONSGML v1.0//EN
CALSCALE:GREGORIAN
METHOD:PUBLISH
X-WR-CALNAME:Szent Ágoston Templom Honlapja
X-ORIGINAL-URL:https://szentagoston.plebania.hu
X-WR-CALDESC:Events for Szent Ágoston Templom Honlapja
BEGIN:VEVENT
DTSTART;TZID="UTC+0":20210914T170000
DTEND;TZID="UTC+0":20210914T190000
DTSTAMP:20260424T082454
CREATED:20210914T072700
LAST-MODIFIED:20210914T072700
UID:588-1631638800-1631646000@szentagoston.plebania.hu
SUMMARY:Ima a családokért a Szent Ágoston Templomban
DESCRIPTION:Ima a családokért a Szent Ágoston Templomban.
URL:https://szentagoston.plebania.hu/event/ima-csaladokert-szent-agoston-templomban/
LOCATION:Ágoston tér 1.\, Pécs\, 7625
CATEGORIES:Az egyházközség eseménye
END:VEVENT
END:VCALENDAR