BEGIN:VCALENDAR
VERSION:2.0
PRODID:-//Szent Ágoston Templom Honlapja - ECPv4.1.0.1//NONSGML v1.0//EN
CALSCALE:GREGORIAN
METHOD:PUBLISH
X-WR-CALNAME:Szent Ágoston Templom Honlapja
X-ORIGINAL-URL:https://szentagoston.plebania.hu
X-WR-CALDESC:Events for Szent Ágoston Templom Honlapja
BEGIN:VEVENT
DTSTART;TZID="UTC+0":20210829T083000
DTEND;TZID="UTC+0":20210829T110000
DTSTAMP:20260422T122133
CREATED:20210820T130827
LAST-MODIFIED:20210820T130827
UID:586-1630225800-1630234800@szentagoston.plebania.hu
SUMMARY:Szent Ágoston búcsú 2021
DESCRIPTION:A templom ünnepi szentmiséje 9:00-kor kezdődik\, előtte 8:30 zenés áhitat\, a szentmise után agape a plébánia kertben.
URL:https://szentagoston.plebania.hu/event/szent-agoston-bucsu-2021/
LOCATION:Ágoston tér 1.\, Pécs\, 7625
CATEGORIES:Az egyházközség eseménye
END:VEVENT
END:VCALENDAR